BEGIN:VCALENDAR
VERSION:2.0
PRODID:-//eventon.com NONSGML v1.0//EN
CALSCALE:GREGORIAN
METHOD:PUBLISH
BEGIN:VEVENT
UID:69e5e59d0b9d5
DTSTAMP:20260420T083645Z
DTSTART:19700101
DTEND:19700102
LOCATION:Hustler Club SF 1031 Kearny Street
SUMMARY:DIVORCE PARTY
DESCRIPTION:DIVORCE PARTY  Divorcee Gets In Free Reservations 415-434-1301
  &nbsp;\nhttps://hustlerclubsf.com/events/divorce-party/
URL:https://hustlerclubsf.com/events/divorce-party/
END:VEVENT
END:VCALENDAR