BEGIN:VCALENDAR
VERSION:2.0
PRODID:-//eventon.com NONSGML v1.0//EN
CALSCALE:GREGORIAN
METHOD:PUBLISH
BEGIN:VEVENT
UID:69e5e5e5e870b
DTSTAMP:20260420T083757Z
DTSTART:19700101
DTEND:19700102
LOCATION:Hustler Club SF 1031 Kearny Street
SUMMARY:OUR FAMOUS MOZZARELLA STICKS ARE BACK
DESCRIPTION:OUR FAMOUS MOZZARELLA STICKS ARE BACK Larry Flynt’s Hustler C
 lub 415-434-1301  Bottle Service Reservations  &nbsp; &nbsp; &nbsp;\nhttp
 s://hustlerclubsf.com/events/our-famous-mozzarella-sticks-are-back/
URL:https://hustlerclubsf.com/events/our-famous-mozzarella-sticks-are-back/
END:VEVENT
END:VCALENDAR