BEGIN:VCALENDAR
VERSION:2.0
PRODID:-//eventon.com NONSGML v1.0//EN
CALSCALE:GREGORIAN
METHOD:PUBLISH
BEGIN:VEVENT
UID:69e9ed4588cac
DTSTAMP:20260423T095829Z
DTSTART:19700101
DTEND:19700102
LOCATION:Hustler Club SF 1031 Kearny Street
SUMMARY:PRETTY TEETEE TUESDAYS
DESCRIPTION:PRETTY TEETEE TUESDAYS TUESDAYS 2-7PM ALL MERCH %50 OFF Bottle 
 Service Reservation Larry Flynt’s Hustler Club 1031 Kearny Street SF 415-
 434-1301\nhttps://hustlerclubsf.com/events/teetee-tueasday/
URL:https://hustlerclubsf.com/events/teetee-tueasday/
END:VEVENT
END:VCALENDAR